BEGIN:VCALENDAR
VERSION:2.0
PRODID:-//Eventin//Event Calendar//EN
CALSCALE:GREGORIAN
METHOD:PUBLISH
BEGIN:VEVENT
UID:55ffae368bf2401321f71f5b141ef29b@centreentrepreneuriat.esg.uqam.ca
SUMMARY:Midi conférence : Devenir son propre patron via le repreneuriat
DESCRIPTION:Il est temps de passer à l’action et de découvrir comment l
 e repreneuriat peut être un alternatif à la réalisation de vos ambitions
  entrepreneuriales. Lors de ce midi-conférence dédié au repreneuriat\, v
 ous aurez la chance d’entendre Dany Michaud\, Aicha Djebari et Annie Cont
 ant\, 3 repreneurs avec des parcours et des expériences complémentaires.\
 n\n\n\nAu programme : conférence avec 3 repreneur.e.s\, réseautage et go
 ûter offert\,Cet événement est une très belle occasion de rencontrer et
  d’échanger avec des entrepreneur.e.s\, des professeur.e.s et expert.e.s
  de l’écosystème entrepreneurial\, des gens d’affaires ainsi qu’ave
 c la relève entrepreneuriale de l’UQAM.\n\n\n\n\nInscrivez - vous
LOCATION:Online
DTSTAMP:20260425T155007Z
DTSTART:20240222T173000Z
DTEND:20260425T180000Z
END:VEVENT
END:VCALENDAR
